BEGIN:VCALENDAR
VERSION:2.0
PRODID:-//https://www.fotoclub-mainz.de///NONSGML kigkonsult.se iCalcreator 2.10.15//
METHOD:PUBLISH
BEGIN:VEVENT
UID:20260421T104954CEST-22391V01Xz@https://www.fotoclub-mainz.de/
DTSTAMP:20260421T084954Z
DESCRIPTION: https://www.fotoclub-mainz.de/index.php/verein/terminkalender/
 event/114-clubabend
DTSTART:20260629T193000Z
DTEND:20260629T210000Z
LOCATION:AWO Seniorenzentrum am Rosengarten\, 4. OG (Göttelmannstraße 45\, 
 55131\, Mainz\, Rheinland-Pfalz)
SUMMARY:Clubabend
URL:https://www.fotoclub-mainz.de/index.php/verein/terminkalender/event/114
 -clubabend
END:VEVENT
END:VCALENDAR
